BEGIN:VCALENDAR
VERSION:2.0
PRODID:-//eventon.com NONSGML v1.0//EN
CALSCALE:GREGORIAN
METHOD:PUBLISH
BEGIN:VEVENT
UID:69ebbd003fed1
DTSTAMP:20260424T185704Z
DTSTART:20211023T140000Z
DTEND:20211023T200000Z
LOCATION:Devant &quot;Les Voiles du Grand LARGE&quot;
SUMMARY:MEYZIEU // Course pédestre "Les Illuminés"
DESCRIPTION:\nhttps://newsestlyonnais.fr/site/events/meyzieu-course-pedestr
 e-les-illumines/
URL:https://newsestlyonnais.fr/site/events/meyzieu-course-pedestre-les-illumines/
END:VEVENT
END:VCALENDAR