BEGIN:VCALENDAR
VERSION:2.0
PRODID:-//eventon.com NONSGML v1.0//EN
CALSCALE:GREGORIAN
METHOD:PUBLISH
BEGIN:VEVENT
UID:69eb56e3445c4
DTSTAMP:20260424T114123Z
DTSTART:20220219T200000Z
DTEND:20220219T223000Z
LOCATION:PatInoire Charlemagne
SUMMARY:LYON 2 // Hockey / glace LHC / Luxembourg
DESCRIPTION:LYON 2 // Hockey / glace LHC / Luxembourg\nhttps://newsestlyonn
 ais.fr/site/events/lyon-2-hockey-glace-lhc-luxembourg/
URL:https://newsestlyonnais.fr/site/events/lyon-2-hockey-glace-lhc-luxembourg/
END:VEVENT
END:VCALENDAR