BEGIN:VCALENDAR
VERSION:2.0
PRODID:-//eventon.com NONSGML v1.0//EN
CALSCALE:GREGORIAN
METHOD:PUBLISH
BEGIN:VEVENT
UID:69e76979a9aa3
DTSTAMP:20260421T121137Z
DTSTART:20220701T093000Z
DTEND:20220703T190000Z
LOCATION:Boulodrome Henri Bayada 8 rue Marcel Cerdan
SUMMARY:BRON // 5° Challenge régional pétanque Henri Bayada
DESCRIPTION:\nhttps://newsestlyonnais.fr/site/events/bron-5-challenge-regio
 nal-petanque-henri-bayada/
URL:https://newsestlyonnais.fr/site/events/bron-5-challenge-regional-petanque-henri-bayada/
END:VEVENT
END:VCALENDAR