BEGIN:VCALENDAR
VERSION:2.0
PRODID:-//eventon.com NONSGML v1.0//EN
CALSCALE:GREGORIAN
METHOD:PUBLISH
BEGIN:VEVENT
UID:69ec08cbb26f5
DTSTAMP:20260425T002027Z
DTSTART:20220924T000000Z
DTEND:20221001T000000Z
LOCATION:
SUMMARY:CALUIRE // Semaine « Forme Bien Etre »
DESCRIPTION:CALUIRE // Semaine « Forme Bien Etre »\nhttps://newsestlyonna
 is.fr/site/events/caluire-semaine-forme-bien-etre-2/
URL:https://newsestlyonnais.fr/site/events/caluire-semaine-forme-bien-etre-2/
END:VEVENT
END:VCALENDAR