BEGIN:VCALENDAR
VERSION:2.0
PRODID:-//eventon.com NONSGML v1.0//EN
CALSCALE:GREGORIAN
METHOD:PUBLISH
BEGIN:VEVENT
UID:69ebdb1d69b46
DTSTAMP:20260424T210533Z
DTSTART:20230625T223000Z
DTEND:20230626T040000Z
LOCATION:HIPPODROME DE PARILLY 4/6 AVENUE PIERRE MENDES-FRANCE
SUMMARY:BRON // HIPPODROMES > Défi du galop en piste
DESCRIPTION:BRON // HIPPODROMES > Défi du galop en piste\nhttps://newsestl
 yonnais.fr/site/events/bron-hippodromes-defi-du-galop-en-piste/
URL:https://newsestlyonnais.fr/site/events/bron-hippodromes-defi-du-galop-en-piste/
END:VEVENT
END:VCALENDAR