BEGIN:VCALENDAR
VERSION:2.0
PRODID:-//eventon.com NONSGML v1.0//EN
CALSCALE:GREGORIAN
METHOD:PUBLISH
BEGIN:VEVENT
UID:69ed329e7c91b
DTSTAMP:20260425T213110Z
DTSTART:20230909T053000Z
DTEND:20230910T060000Z
LOCATION:Espace de loisirs de la Fraternité
SUMMARY:GENAS // LE VILLAGE RUGBY
DESCRIPTION:VILLAGE RUGBY  Vendredi 8 dès 18 h 30 &amp; Samedi 9 sept. 20
 23 OUVERT à TOUSPôle de loisirs de la Fraternité - GENAS Par içi\,  les
  fans de Rugby !  Chers partenaires du Club REEL XV\,  A l’occasion du m
 atch d'ouverture de la Coupe du Monde de Rugby en France 🏆\,   le Cl
 ub[..]\nhttps://newsestlyonnais.fr/site/events/genas-le-village-rugby/
URL:https://newsestlyonnais.fr/site/events/genas-le-village-rugby/
END:VEVENT
END:VCALENDAR