BEGIN:VCALENDAR
VERSION:2.0
PRODID:-//eventon.com NONSGML v1.0//EN
CALSCALE:GREGORIAN
METHOD:PUBLISH
BEGIN:VEVENT
UID:69e6303dabe2f
DTSTAMP:20260420T135509Z
DTSTART:20231021T200000Z
DTEND:20231023T060000Z
LOCATION:ESPACE POPEREN 135 RUE DE LA REPUBLIQUE
SUMMARY:MEYZIEU // Exposition champignons et plantes
DESCRIPTION:MEYZIEU // Exposition champignons et plantes\nhttps://newsestly
 onnais.fr/site/events/meyzieu-exposition-champignons-et-plantes-4/
URL:https://newsestlyonnais.fr/site/events/meyzieu-exposition-champignons-et-plantes-4/
END:VEVENT
END:VCALENDAR