BEGIN:VCALENDAR
VERSION:2.0
PRODID:-//eventon.com NONSGML v1.0//EN
CALSCALE:GREGORIAN
METHOD:PUBLISH
BEGIN:VEVENT
UID:69e7a34ee0d17
DTSTAMP:20260421T161822Z
DTSTART:20231020T200000Z
DTEND:20231023T070000Z
LOCATION:VILLEURBANNE
SUMMARY:VILLEURBANNE // 9° Festival « Sur Place ou à emporter »
DESCRIPTION:VILLEURBANNE // 9° Festival « Sur Place ou à emporter »\nht
 tps://newsestlyonnais.fr/site/events/villeurbanne-9-festival-sur-place-ou-a
 -emporter/
URL:https://newsestlyonnais.fr/site/events/villeurbanne-9-festival-sur-place-ou-a-emporter/
END:VEVENT
END:VCALENDAR