BEGIN:VCALENDAR
VERSION:2.0
PRODID:-//eventon.com NONSGML v1.0//EN
CALSCALE:GREGORIAN
METHOD:PUBLISH
BEGIN:VEVENT
UID:69e7a3400bc3e
DTSTAMP:20260421T161808Z
DTSTART:20231104T200000Z
DTEND:20231106T080000Z
LOCATION:SQUASH EVASION ZAC du Chêne - Parc Gounod 1\,  rue du 35e Régiment d'Aviation
SUMMARY:BRON // 6° RACKETLON de LYON-BRON
DESCRIPTION:Ce sport regroupe les 4 sports de raquettes : le tennis de tabl
 e\,  le badminton\,  le squash\,  le tennis. &nbsp;\nhttps://newsestlyonnai
 s.fr/site/events/bron-6-racketlon-de-lyon-bron/
URL:https://newsestlyonnais.fr/site/events/bron-6-racketlon-de-lyon-bron/
END:VEVENT
END:VCALENDAR