BEGIN:VCALENDAR
VERSION:2.0
PRODID:-//eventon.com NONSGML v1.0//EN
CALSCALE:GREGORIAN
METHOD:PUBLISH
BEGIN:VEVENT
UID:69e90126e390e
DTSTAMP:20260422T171102Z
DTSTART:20231124T200000Z
DTEND:20231127T060000Z
LOCATION:MEDIATHEQUE JEAN-PREVOST 2 PLACE CUMBERNAULD
SUMMARY:BRON | Festival "Mission [3] possible"
DESCRIPTION:BRON | Festival "Mission [3] possible"\nhttps://newsestlyonnais
 .fr/site/events/bron-festival-mission-3-possible/
URL:https://newsestlyonnais.fr/site/events/bron-festival-mission-3-possible/
END:VEVENT
END:VCALENDAR