BEGIN:VCALENDAR
VERSION:2.0
PRODID:-//eventon.com NONSGML v1.0//EN
CALSCALE:GREGORIAN
METHOD:PUBLISH
BEGIN:VEVENT
UID:69ed31dfd3269
DTSTAMP:20260425T212759Z
DTSTART:20231117T230000Z
DTEND:20231218T060000Z
LOCATION:TENNIS CLUB DE JONAGE
SUMMARY:JONAGE // Open de Tennis
DESCRIPTION:JONAGE // Open de Tennis\nhttps://newsestlyonnais.fr/site/event
 s/jonage-open-de-tennis/
URL:https://newsestlyonnais.fr/site/events/jonage-open-de-tennis/
END:VEVENT
END:VCALENDAR