BEGIN:VCALENDAR
VERSION:2.0
PRODID:-//eventon.com NONSGML v1.0//EN
CALSCALE:GREGORIAN
METHOD:PUBLISH
BEGIN:VEVENT
UID:69ebbbb9633a8
DTSTAMP:20260424T185137Z
DTSTART:20210702T160000Z
DTEND:20210702T200000Z
LOCATION:
SUMMARY:LYON // FITDAYS MGEN
DESCRIPTION:LYON // FITDAYS MGEN\nhttps://newsestlyonnais.fr/site/events/ly
 on-fitdays-mgen/
URL:https://newsestlyonnais.fr/site/events/lyon-fitdays-mgen/
END:VEVENT
END:VCALENDAR