BEGIN:VCALENDAR
VERSION:2.0
PRODID:-//eventon.com NONSGML v1.0//EN
CALSCALE:GREGORIAN
METHOD:PUBLISH
BEGIN:VEVENT
UID:69eb71d10146e
DTSTAMP:20260424T133617Z
DTSTART:20221208T140000Z
DTEND:20221211T220000Z
LOCATION:PLACE ROGER SALENGRO
SUMMARY:DECINES // DECILLUMINE > Illuminations et Marché de Noël
DESCRIPTION:DECINES // DECILLUMINE > Illuminations et Marché de Noël\nhtt
 ps://newsestlyonnais.fr/site/events/decines-decillumine-illuminations-et-ma
 rche-de-noel-3/
URL:https://newsestlyonnais.fr/site/events/decines-decillumine-illuminations-et-marche-de-noel-3/
END:VEVENT
END:VCALENDAR