BEGIN:VCALENDAR
VERSION:2.0
PRODID:-//eventon.com NONSGML v1.0//EN
CALSCALE:GREGORIAN
METHOD:PUBLISH
BEGIN:VEVENT
UID:69e9b38c19ee1
DTSTAMP:20260423T055212Z
DTSTART:20210925T184500Z
DTEND:20210925T224000Z
LOCATION:COMPLEXE SPORTIF ROMAIN TISSERAND chemin de trèves
SUMMARY:CHASSIEU // SOIREE PISTE ATHLETISME
DESCRIPTION:Ouvert aux non licenciés et gratuit\nhttps://newsestlyonnais.f
 r/site/events/chassieu-soiree-piste-dathletisme-2/
URL:https://newsestlyonnais.fr/site/events/chassieu-soiree-piste-dathletisme-2/
END:VEVENT
END:VCALENDAR